BEGIN:VCALENDAR
VERSION:2.0
PRODID:-//High Sierra Tri - ECPv6.14.2//NONSGML v1.0//EN
CALSCALE:GREGORIAN
METHOD:PUBLISH
X-ORIGINAL-URL:https://highsierratri.org
X-WR-CALDESC:Events for High Sierra Tri
REFRESH-INTERVAL;VALUE=DURATION:PT1H
X-Robots-Tag:noindex
X-PUBLISHED-TTL:PT1H
BEGIN:VTIMEZONE
TZID:UTC
BEGIN:STANDARD
TZOFFSETFROM:+0000
TZOFFSETTO:+0000
TZNAME:UTC
DTSTART:20220101T000000
END:STANDARD
END:VTIMEZONE
BEGIN:VEVENT
DTSTART;TZID=UTC:20220810T090000
DTEND;TZID=UTC:20220810T110000
DTSTAMP:20260423T171937
CREATED:20220614T040534Z
LAST-MODIFIED:20220614T040534Z
UID:219-1660122000-1660129200@highsierratri.org
SUMMARY:Big Wednesdays Group Ride to Watterson (with swim option)
DESCRIPTION:Tri Club Members join up every Wednesday to ride from Whitmore Pool to Watterson Summit. \nOptions to go shorter or longer. \nThese are self led group workouts. \nFREE to Club Members / Must be a member to participate. \nSome folks will swim before at Whitmore Pool – lap swim goes until 8:30am. Just be ready to ride at 9. \nGreat triathlon practice!
URL:https://highsierratri.org/event/big-wednesdays-group-ride-to-watterson-with-swim-option-6/
LOCATION:Whitmore Pool\, Benton Crossing Road\, Mammoth Lakes\, CA\, 93546\, United States
ORGANIZER;CN="HSTC":MAILTO:info@highsierratri.org
END:VEVENT
BEGIN:VEVENT
DTSTART;TZID=UTC:20220809T090000
DTEND;TZID=UTC:20220809T100000
DTSTAMP:20260423T171937
CREATED:20220614T033958Z
LAST-MODIFIED:20220614T033958Z
UID:190-1660035600-1660039200@highsierratri.org
SUMMARY:June Lake Open Water Group Swims
DESCRIPTION:Join us every Tuesday for open water swims at June Lake with the Tri Club! \nThese are informal group workouts led by Club members. \nGreat practice for triathlons and Graniteman Challenge. \nSometimes folks will ride or run the JLT course after as well. \nFREE to members – must be a member to participate.
URL:https://highsierratri.org/event/june-lake-open-water-group-swims-6/
LOCATION:June Lake Beach\, Pinecliff Drive\, June Lake\, CA\, 93529\, United States
ORGANIZER;CN="HSTC":MAILTO:info@highsierratri.org
END:VEVENT
BEGIN:VEVENT
DTSTART;TZID=UTC:20220803T090000
DTEND;TZID=UTC:20220803T110000
DTSTAMP:20260423T171937
CREATED:20220614T040445Z
LAST-MODIFIED:20220614T040445Z
UID:217-1659517200-1659524400@highsierratri.org
SUMMARY:Big Wednesdays Group Ride to Watterson (with swim option)
DESCRIPTION:Tri Club Members join up every Wednesday to ride from Whitmore Pool to Watterson Summit. \nOptions to go shorter or longer. \nThese are self led group workouts. \nFREE to Club Members / Must be a member to participate. \nSome folks will swim before at Whitmore Pool – lap swim goes until 8:30am. Just be ready to ride at 9. \nGreat triathlon practice!
URL:https://highsierratri.org/event/big-wednesdays-group-ride-to-watterson-with-swim-option-5/
LOCATION:Whitmore Pool\, Benton Crossing Road\, Mammoth Lakes\, CA\, 93546\, United States
ORGANIZER;CN="HSTC":MAILTO:info@highsierratri.org
END:VEVENT
BEGIN:VEVENT
DTSTART;TZID=UTC:20220802T090000
DTEND;TZID=UTC:20220802T100000
DTSTAMP:20260423T171937
CREATED:20220614T033913Z
LAST-MODIFIED:20220614T033913Z
UID:188-1659430800-1659434400@highsierratri.org
SUMMARY:June Lake Open Water Group Swims
DESCRIPTION:Join us every Tuesday for open water swims at June Lake with the Tri Club! \nThese are informal group workouts led by Club members. \nGreat practice for triathlons and Graniteman Challenge. \nSometimes folks will ride or run the JLT course after as well. \nFREE to members – must be a member to participate.
URL:https://highsierratri.org/event/june-lake-open-water-group-swims-5/
LOCATION:June Lake Beach\, Pinecliff Drive\, June Lake\, CA\, 93529\, United States
ORGANIZER;CN="HSTC":MAILTO:info@highsierratri.org
END:VEVENT
BEGIN:VEVENT
DTSTART;TZID=UTC:20220727T090000
DTEND;TZID=UTC:20220727T110000
DTSTAMP:20260423T171937
CREATED:20220614T040351Z
LAST-MODIFIED:20220614T040351Z
UID:215-1658912400-1658919600@highsierratri.org
SUMMARY:Big Wednesdays Group Ride to Watterson (with swim option)
DESCRIPTION:Tri Club Members join up every Wednesday to ride from Whitmore Pool to Watterson Summit. \nOptions to go shorter or longer. \nThese are self led group workouts. \nFREE to Club Members / Must be a member to participate. \nSome folks will swim before at Whitmore Pool – lap swim goes until 8:30am. Just be ready to ride at 9. \nGreat triathlon practice!
URL:https://highsierratri.org/event/big-wednesdays-group-ride-to-watterson-with-swim-option-4/
LOCATION:Whitmore Pool\, Benton Crossing Road\, Mammoth Lakes\, CA\, 93546\, United States
ORGANIZER;CN="HSTC":MAILTO:info@highsierratri.org
END:VEVENT
BEGIN:VEVENT
DTSTART;TZID=UTC:20220726T090000
DTEND;TZID=UTC:20220726T100000
DTSTAMP:20260423T171937
CREATED:20220614T033746Z
LAST-MODIFIED:20220614T033746Z
UID:186-1658826000-1658829600@highsierratri.org
SUMMARY:June Lake Open Water Group Swims
DESCRIPTION:Join us every Tuesday for open water swims at June Lake with the Tri Club! \nThese are informal group workouts led by Club members. \nGreat practice for triathlons and Graniteman Challenge. \nSometimes folks will ride or run the JLT course after as well. \nFREE to members – must be a member to participate.
URL:https://highsierratri.org/event/june-lake-open-water-group-swims-4/
LOCATION:June Lake Beach\, Pinecliff Drive\, June Lake\, CA\, 93529\, United States
ORGANIZER;CN="HSTC":MAILTO:info@highsierratri.org
END:VEVENT
BEGIN:VEVENT
DTSTART;TZID=UTC:20220720T090000
DTEND;TZID=UTC:20220720T110000
DTSTAMP:20260423T171937
CREATED:20220614T040244Z
LAST-MODIFIED:20220614T040244Z
UID:213-1658307600-1658314800@highsierratri.org
SUMMARY:Big Wednesdays Group Ride to Watterson (with swim option)
DESCRIPTION:Tri Club Members join up every Wednesday to ride from Whitmore Pool to Watterson Summit. \nOptions to go shorter or longer. \nThese are self led group workouts. \nFREE to Club Members / Must be a member to participate. \nSome folks will swim before at Whitmore Pool – lap swim goes until 8:30am. Just be ready to ride at 9. \nGreat triathlon practice!
URL:https://highsierratri.org/event/big-wednesdays-group-ride-to-watterson-with-swim-option-3/
LOCATION:Whitmore Pool\, Benton Crossing Road\, Mammoth Lakes\, CA\, 93546\, United States
ORGANIZER;CN="HSTC":MAILTO:info@highsierratri.org
END:VEVENT
BEGIN:VEVENT
DTSTART;TZID=UTC:20220719T090000
DTEND;TZID=UTC:20220719T100000
DTSTAMP:20260423T171937
CREATED:20220614T033656Z
LAST-MODIFIED:20220614T033656Z
UID:184-1658221200-1658224800@highsierratri.org
SUMMARY:June Lake Open Water Group Swims
DESCRIPTION:Join us every Tuesday for open water swims at June Lake with the Tri Club! \nThese are informal group workouts led by Club members. \nGreat practice for triathlons and Graniteman Challenge. \nSometimes folks will ride or run the JLT course after as well. \nFREE to members – must be a member to participate.
URL:https://highsierratri.org/event/june-lake-open-water-group-swims-3/
LOCATION:June Lake Beach\, Pinecliff Drive\, June Lake\, CA\, 93529\, United States
ORGANIZER;CN="HSTC":MAILTO:info@highsierratri.org
END:VEVENT
BEGIN:VEVENT
DTSTART;TZID=UTC:20220713T090000
DTEND;TZID=UTC:20220713T100000
DTSTAMP:20260423T171937
CREATED:20220614T040120Z
LAST-MODIFIED:20220614T040120Z
UID:210-1657702800-1657706400@highsierratri.org
SUMMARY:Big Wednesdays Group Ride to Watterson (with swim option)
DESCRIPTION:Tri Club Members join up every Wednesday to ride from Whitmore Pool to Watterson Summit. \nOptions to go shorter or longer. \nThese are self led group workouts. \nFREE to Club Members / Must be a member to participate. \nSome folks will swim before at Whitmore Pool. Just be ready to ride at 9. \nGreat triathlon practice!
URL:https://highsierratri.org/event/big-wednesdays-group-ride-to-watterson-with-swim-option-2/
LOCATION:Whitmore Pool\, Benton Crossing Road\, Mammoth Lakes\, CA\, 93546\, United States
ORGANIZER;CN="HSTC":MAILTO:info@highsierratri.org
END:VEVENT
BEGIN:VEVENT
DTSTART;TZID=UTC:20220712T090000
DTEND;TZID=UTC:20220712T100000
DTSTAMP:20260423T171937
CREATED:20220614T033514Z
LAST-MODIFIED:20220614T033514Z
UID:182-1657616400-1657620000@highsierratri.org
SUMMARY:June Lake Open Water Swims
DESCRIPTION:Join us every Tuesday for open water swims at June Lake with the Tri Club! \nThese are informal group workouts led by Club members. \nGreat practice for triathlons and Graniteman Challenge. \nSometimes folks will ride or run the JLT course after as well. \nFREE to members – must be a member to participate.
URL:https://highsierratri.org/event/june-lake-open-water-swims-3/
LOCATION:June Lake Beach\, Pinecliff Drive\, June Lake\, CA\, 93529\, United States
ORGANIZER;CN="HSTC":MAILTO:info@highsierratri.org
END:VEVENT
BEGIN:VEVENT
DTSTART;TZID=UTC:20220706T090000
DTEND;TZID=UTC:20220706T110000
DTSTAMP:20260423T171937
CREATED:20220614T040025Z
LAST-MODIFIED:20220614T040025Z
UID:208-1657098000-1657105200@highsierratri.org
SUMMARY:Big Wednesdays Group Ride to Watterson (with swim option)
DESCRIPTION:Tri Club Members join up every Wednesday to ride from Whitmore Pool to Watterson Summit. \nOptions to go shorter or longer. \nThese are self led group workouts. \nFREE to Club Members / Must be a member to participate. \nSome folks will swim before at Whitmore Pool. Just be ready to ride at 9. \nGreat triathlon practice!
URL:https://highsierratri.org/event/big-wednesdays-group-ride-to-watterson-with-swim-option/
LOCATION:Whitmore Pool\, Benton Crossing Road\, Mammoth Lakes\, CA\, 93546\, United States
ORGANIZER;CN="HSTC":MAILTO:info@highsierratri.org
END:VEVENT
BEGIN:VEVENT
DTSTART;TZID=UTC:20220705T090000
DTEND;TZID=UTC:20220705T100000
DTSTAMP:20260423T171937
CREATED:20220614T033417Z
LAST-MODIFIED:20220614T033417Z
UID:180-1657011600-1657015200@highsierratri.org
SUMMARY:June Lake Open Water Swims
DESCRIPTION:Join us every Tuesday for open water swims at June Lake with the Tri Club! \nThese are informal group workouts led by Club members. \nGreat practice for June Lake Triathlon and Graniteman Challenge. \nSometimes folks will ride or run the JLT course after as well. \nFREE to members – must be a member to participate.
URL:https://highsierratri.org/event/june-lake-open-water-swims-2/
LOCATION:June Lake Beach\, Pinecliff Drive\, June Lake\, CA\, 93529\, United States
ORGANIZER;CN="HSTC":MAILTO:info@highsierratri.org
END:VEVENT
BEGIN:VEVENT
DTSTART;TZID=UTC:20220629T090000
DTEND;TZID=UTC:20220629T110000
DTSTAMP:20260423T171937
CREATED:20220614T035626Z
LAST-MODIFIED:20220614T035820Z
UID:204-1656493200-1656500400@highsierratri.org
SUMMARY:Big Wednesdays - Group Ride to Watterson (with Swim Option)
DESCRIPTION:Tri Club Members join up every Wednesday to ride from Whitmore Pool to Watterson Summit. \nOptions to go shorter or longer. \nThese are self led group workouts. \nFREE to Club Members / Must be a member to participate. \nSome folks will swim before at Whitmore Pool. Just be ready to ride at 9. \nGreat triathlon practice!
URL:https://highsierratri.org/event/big-wednesdays-ride-to-watterson-with-swim-option-2/
LOCATION:Whitmore Pool\, Benton Crossing Road\, Mammoth Lakes\, CA\, 93546\, United States
ORGANIZER;CN="HSTC":MAILTO:info@highsierratri.org
END:VEVENT
BEGIN:VEVENT
DTSTART;TZID=UTC:20220628T090000
DTEND;TZID=UTC:20220628T100000
DTSTAMP:20260423T171937
CREATED:20220614T033323Z
LAST-MODIFIED:20220614T033323Z
UID:178-1656406800-1656410400@highsierratri.org
SUMMARY:June Lake Open Water Swims
DESCRIPTION:Join us every Tuesday for open water swims at June Lake with the Tri Club! \nThese are informal group workouts led by Club members. \nGreat practice for June Lake Triathlon and Graniteman Challenge. \nSometimes folks will ride or run the JLT course after as well. \nFREE to members – must be a member to participate.
URL:https://highsierratri.org/event/june-lake-open-water-swims/
LOCATION:June Lake Beach\, Pinecliff Drive\, June Lake\, CA\, 93529\, United States
ORGANIZER;CN="HSTC":MAILTO:info@highsierratri.org
END:VEVENT
BEGIN:VEVENT
DTSTART;TZID=UTC:20220622T090000
DTEND;TZID=UTC:20220622T110000
DTSTAMP:20260423T171937
CREATED:20220614T035430Z
LAST-MODIFIED:20220614T035735Z
UID:202-1655888400-1655895600@highsierratri.org
SUMMARY:Big Wednesdays Group Ride to Watterson (with swim option)
DESCRIPTION:Tri Club Members join up every Wednesday to ride from Whitmore Pool to Watterson Summit. \nOptions to go shorter or longer. \nThese are self led group workouts. \nFREE to Club Members / Must be a member to participate. \nSome folks will swim before at Whitmore Pool. Just be ready to ride at 9. \nGreat triathlon practice!
URL:https://highsierratri.org/event/big-wednesdays-ride-to-watterson-with-swim-option/
LOCATION:Whitmore Pool\, Benton Crossing Road\, Mammoth Lakes\, CA\, 93546\, United States
ORGANIZER;CN="HSTC":MAILTO:info@highsierratri.org
END:VEVENT
BEGIN:VEVENT
DTSTART;TZID=UTC:20220621T090000
DTEND;TZID=UTC:20220621T100000
DTSTAMP:20260423T171937
CREATED:20220614T033228Z
LAST-MODIFIED:20220614T033228Z
UID:176-1655802000-1655805600@highsierratri.org
SUMMARY:June Lake Open Water Group Swims
DESCRIPTION:Join us every Tuesday for open water swims at June Lake with the Tri Club! \nThese are informal group workouts led by Club members. \nGreat practice for June Lake Triathlon and Graniteman Challenge. \nSometimes folks will ride or run the JLT course after as well. \nFREE to members – must be a member to participate.
URL:https://highsierratri.org/event/june-lake-open-water-group-swims-2/
LOCATION:June Lake Beach\, Pinecliff Drive\, June Lake\, CA\, 93529\, United States
ORGANIZER;CN="HSTC":MAILTO:info@highsierratri.org
END:VEVENT
BEGIN:VEVENT
DTSTART;TZID=UTC:20220615T090000
DTEND;TZID=UTC:20220615T110000
DTSTAMP:20260423T171937
CREATED:20220614T035251Z
LAST-MODIFIED:20220614T041044Z
UID:200-1655283600-1655290800@highsierratri.org
SUMMARY:Big Wednesdays Group Ride to Watterson (with swim option)
DESCRIPTION:Tri Club Members join up every Wednesday to ride from Whitmore Pool to Watterson Summit. \nOptions to go shorter or longer. \nThese are self led group workouts. \nFREE to Club Members / Must be a member to participate. \nSome folks will swim before at Whitmore Pool. Just be ready to ride at 9. \nGreat triathlon practice!
URL:https://highsierratri.org/event/big-wednesdays-group-ride-with-swim-option/
LOCATION:Whitmore Pool\, Benton Crossing Road\, Mammoth Lakes\, CA\, 93546\, United States
ORGANIZER;CN="HSTC":MAILTO:info@highsierratri.org
END:VEVENT
BEGIN:VEVENT
DTSTART;TZID=UTC:20220614T090000
DTEND;TZID=UTC:20220614T100000
DTSTAMP:20260423T171937
CREATED:20220614T033123Z
LAST-MODIFIED:20220614T033123Z
UID:174-1655197200-1655200800@highsierratri.org
SUMMARY:June Lake Open Water Group Swims
DESCRIPTION:Join us every Tuesday for open water swims at June Lake with the Tri Club! \nThese are informal group workouts led by Club members. \nGreat practice for June Lake Triathlon and Graniteman Challenge. \nSometimes folks will ride or run the JLT course after as well. \nFREE to members – must be a member to participate.
URL:https://highsierratri.org/event/june-lake-open-water-group-swims/
LOCATION:June Lake Beach\, Pinecliff Drive\, June Lake\, CA\, 93529\, United States
ORGANIZER;CN="HSTC":MAILTO:info@highsierratri.org
END:VEVENT
BEGIN:VEVENT
DTSTART;TZID=UTC:20220608T100000
DTEND;TZID=UTC:20220608T120000
DTSTAMP:20260423T171937
CREATED:20220528T211234Z
LAST-MODIFIED:20220528T211511Z
UID:168-1654682400-1654689600@highsierratri.org
SUMMARY:Group Rides
DESCRIPTION:Meet every Wednesday at Whitmore Pool and ride to Watterson Divide (approx 22 miles round trip). \nFun\, casual\, supportive atmosphere with Triathlon Club Members. \nOption to ride shorter or longer each week. \nRide this week starts at 10am since we have our last coached swim workout til 9:30am.\nUsually ride starts at 9am.
URL:https://highsierratri.org/event/group-rides/
LOCATION:Whitmore Pool\, Benton Crossing Road\, Mammoth Lakes\, CA\, 93546\, United States
ORGANIZER;CN="HSTC":MAILTO:info@highsierratri.org
END:VEVENT
BEGIN:VEVENT
DTSTART;TZID=UTC:20220608T083000
DTEND;TZID=UTC:20220608T093000
DTSTAMP:20260423T171937
CREATED:20220528T210629Z
LAST-MODIFIED:20220528T210629Z
UID:163-1654677000-1654680600@highsierratri.org
SUMMARY:Coached Swim Workout
DESCRIPTION:Only for 4 weeks! \n1-hr swim training session with coach feedback. \nIncluded with 2022 HSTC Membership.\nMust be a member to participate.
URL:https://highsierratri.org/event/coached-swim-workout-4/
LOCATION:Whitmore Pool\, Benton Crossing Road\, Mammoth Lakes\, CA\, 93546\, United States
ORGANIZER;CN="Coach Alana":MAILTO:info@highsierratri.org
END:VEVENT
BEGIN:VEVENT
DTSTART;TZID=UTC:20220607T090000
DTEND;TZID=UTC:20220607T100000
DTSTAMP:20260423T171937
CREATED:20220528T211043Z
LAST-MODIFIED:20220528T211043Z
UID:165-1654592400-1654596000@highsierratri.org
SUMMARY:Open Water Group Swims
DESCRIPTION:Join us for group open water swims every Tuesday June 7 – September 6th at June Lake Beach. \nEvery week the Club members swim the general race course for June Lake Triathlon. \nCasual atmosphere providing safe and supportive group swim environment.
URL:https://highsierratri.org/event/open-water-group-swims/
LOCATION:June Lake Beach\, Pinecliff Drive\, June Lake\, CA\, 93529\, United States
ORGANIZER;CN="HSTC":MAILTO:info@highsierratri.org
END:VEVENT
BEGIN:VEVENT
DTSTART;TZID=UTC:20220606T083000
DTEND;TZID=UTC:20220606T093000
DTSTAMP:20260423T171937
CREATED:20220330T205848Z
LAST-MODIFIED:20220413T141028Z
UID:147-1654504200-1654507800@highsierratri.org
SUMMARY:Coached Swim Workout
DESCRIPTION:Only for 4 weeks! \n1-hr swim training session with coach feedback. \nIncluded with 2022 HSTC Membership.\nMust be a member to participate.
URL:https://highsierratri.org/event/coached-swim-workout/
LOCATION:Whitmore Pool\, Benton Crossing Road\, Mammoth Lakes\, CA\, 93546\, United States
ORGANIZER;CN="HSTC":MAILTO:info@highsierratri.org
END:VEVENT
BEGIN:VEVENT
DTSTART;TZID=UTC:20220530T083000
DTEND;TZID=UTC:20220530T093000
DTSTAMP:20260423T171937
CREATED:20220330T205519Z
LAST-MODIFIED:20220414T023034Z
UID:145-1653899400-1653903000@highsierratri.org
SUMMARY:Coached Swim Workouts
DESCRIPTION:Only 4 weeks! \n1-hr swim training session with coach feedback. \nIncluded with 2022 HSTC Membership.\nMust be a member to participate.
URL:https://highsierratri.org/event/coached-swim-workouts/
LOCATION:Whitmore Pool\, Benton Crossing Road\, Mammoth Lakes\, CA\, 93546\, United States
ORGANIZER;CN="HSTC":MAILTO:info@highsierratri.org
END:VEVENT
BEGIN:VEVENT
DTSTART;TZID=UTC:20220523T083000
DTEND;TZID=UTC:20220523T093000
DTSTAMP:20260423T171937
CREATED:20220330T210358Z
LAST-MODIFIED:20220414T022905Z
UID:152-1653294600-1653298200@highsierratri.org
SUMMARY:Coached Swim Workout
DESCRIPTION:Only 4 weeks! \n1-hr swim training session with coach feedback. \nIncluded with 2022 HSTC Membership.\nMust be a member to participate.
URL:https://highsierratri.org/event/coached-swim-workout-3/
LOCATION:Whitmore Pool\, Benton Crossing Road\, Mammoth Lakes\, CA\, 93546\, United States
ORGANIZER;CN="HSTC":MAILTO:info@highsierratri.org
END:VEVENT
BEGIN:VEVENT
DTSTART;TZID=UTC:20220516T083000
DTEND;TZID=UTC:20220516T093000
DTSTAMP:20260423T171937
CREATED:20220330T210034Z
LAST-MODIFIED:20220413T141332Z
UID:150-1652689800-1652693400@highsierratri.org
SUMMARY:Coached Swim Workout
DESCRIPTION:Only 4 weeks! \n1-hr swim training session with coach feedback. \nIncluded with 2022 HSTC Membership.\nMust be a member to participate.
URL:https://highsierratri.org/event/coached-swim-workout-2/
LOCATION:Whitmore Pool\, Benton Crossing Road\, Mammoth Lakes\, CA\, 93546\, United States
ORGANIZER;CN="HSTC":MAILTO:info@highsierratri.org
END:VEVENT
BEGIN:VEVENT
DTSTART;TZID=UTC:20220222T090000
DTEND;TZID=UTC:20220222T100000
DTSTAMP:20260423T171937
CREATED:20220128T200757Z
LAST-MODIFIED:20220128T200757Z
UID:131-1645520400-1645524000@highsierratri.org
SUMMARY:NORDIC SKI WORKOUT
DESCRIPTION:This is a 4-week block of training every Tuesday in February (2/1\, 2/8\, 2/15\, 2/22) \nCoach Alana will lead a 1-hr on snow cross country ski interval workout to help us cross train and stay fit over the winter. \nThe training is structured as a workout with warm up\, main set and cool down.\nThe focus is on the workout but you’ll get some technique tips along the way.\nThis is for experienced skiers who are comfortable on skis.\nBring both skis (skating and classic) and we’ll choose the right ones for the day’s snow conditions. \nCost: $40 for the month.\nIn addition you must be a 2022 HSTC Member – Click HERE to sign up for Membership\, fill out the COVID Waiver HERE \nJoin us for a great way to cross train for multi-sport performance!
URL:https://highsierratri.org/event/nordic-ski-workout-3/
LOCATION:CA
END:VEVENT
BEGIN:VEVENT
DTSTART;TZID=UTC:20220215T090000
DTEND;TZID=UTC:20220215T100000
DTSTAMP:20260423T171937
CREATED:20220128T200725Z
LAST-MODIFIED:20220128T200725Z
UID:129-1644915600-1644919200@highsierratri.org
SUMMARY:NORDIC SKI WORKOUT
DESCRIPTION:This is a 4-week block of training every Tuesday in February (2/1\, 2/8\, 2/15\, 2/22) \nCoach Alana will lead a 1-hr on snow cross country ski interval workout to help us cross train and stay fit over the winter. \nThe training is structured as a workout with warm up\, main set and cool down.\nThe focus is on the workout but you’ll get some technique tips along the way.\nThis is for experienced skiers who are comfortable on skis.\nBring both skis (skating and classic) and we’ll choose the right ones for the day’s snow conditions. \nCost: $40 for the month.\nIn addition you must be a 2022 HSTC Member – Click HERE to sign up for Membership\, fill out the COVID Waiver HERE \nJoin us for a great way to cross train for multi-sport performance!
URL:https://highsierratri.org/event/nordic-ski-workout-2/
LOCATION:CA
END:VEVENT
BEGIN:VEVENT
DTSTART;TZID=UTC:20220208T090000
DTEND;TZID=UTC:20220208T100000
DTSTAMP:20260423T171937
CREATED:20220128T200556Z
LAST-MODIFIED:20220128T200825Z
UID:126-1644310800-1644314400@highsierratri.org
SUMMARY:NORDIC SKI WORKOUT
DESCRIPTION:This is a 4-week block of training every Tuesday in February (2/1\, 2/8\, 2/15\, 2/22) \nCoach Alana will lead a 1-hr on snow cross country ski interval workout to help us cross train and stay fit over the winter. \nThe training is structured as a workout with warm up\, main set and cool down.\nThe focus is on the workout but you’ll get some technique tips along the way.\nThis is for experienced skiers who are comfortable on skis.\nBring both skis (skating and classic) and we’ll choose the right ones for the day’s snow conditions. \nCost: $40 for the month.\nIn addition you must be a 2022 HSTC Member – Click HERE to sign up for Membership\, fill out the COVID Waiver HERE \nJoin us for a great way to cross train for multi-sport performance!
URL:https://highsierratri.org/event/126/
LOCATION:Shady Rest Park\, Visitors Center Parking Lot\, Mammoth Lakes\, CA\, 93546\, United States
ORGANIZER;CN="Coach Alana":MAILTO:info@highsierratri.org
END:VEVENT
BEGIN:VEVENT
DTSTART;TZID=UTC:20220201T090000
DTEND;TZID=UTC:20220201T100000
DTSTAMP:20260423T171937
CREATED:20220112T010241Z
LAST-MODIFIED:20220128T200846Z
UID:118-1643706000-1643709600@highsierratri.org
SUMMARY:NORDIC SKI WORKOUT
DESCRIPTION:This is a 4-week block of training every Tuesday in February. \nCoach Alana will lead a 1-hr on snow cross country ski interval workout to help us cross train and stay fit over the winter. \nThe training is structured as a workout with warm up\, main set and cool down.\nThe focus is on the workout but you’ll get some technique tips along the way.\nThis is for experienced skiers who are comfortable on skis.\nBring both skis (skating and classic) and we’ll choose the right ones for the day’s snow conditions. \nMust be a 2022 HSTC Member – Click HERE to sign up for Membership\nThere is an additional $40 cost for the month.\nPlease RSVP before by January 25th.
URL:https://highsierratri.org/event/nordic-ski-workout/
LOCATION:Shady Rest Park\, Visitors Center Parking Lot\, Mammoth Lakes\, CA\, 93546\, United States
ORGANIZER;CN="Coach Alana":MAILTO:info@highsierratri.org
END:VEVENT
END:VCALENDAR