BEGIN:VCALENDAR
VERSION:2.0
PRODID:-//High Sierra Tri - ECPv6.14.2//NONSGML v1.0//EN
CALSCALE:GREGORIAN
METHOD:PUBLISH
X-WR-CALNAME:High Sierra Tri
X-ORIGINAL-URL:https://highsierratri.org
X-WR-CALDESC:Events for High Sierra Tri
REFRESH-INTERVAL;VALUE=DURATION:PT1H
X-Robots-Tag:noindex
X-PUBLISHED-TTL:PT1H
BEGIN:VTIMEZONE
TZID:UTC
BEGIN:STANDARD
TZOFFSETFROM:+0000
TZOFFSETTO:+0000
TZNAME:UTC
DTSTART:20220101T000000
END:STANDARD
END:VTIMEZONE
BEGIN:VEVENT
DTSTART;TZID=UTC:20230812T090000
DTEND;TZID=UTC:20230812T100000
DTSTAMP:20260423T135714
CREATED:20230713T190557Z
LAST-MODIFIED:20230713T190557Z
UID:300-1691830800-1691834400@highsierratri.org
SUMMARY:Saturday Open Water Swim Clinic at June Lake!
DESCRIPTION:Join Us this Saturday for an Open Water Swim Clinic at June Lake! \n \nWhen: 9-10am\nWhere: June Lake\nWhat: Coach Alana leads an open water swim clinic guiding athletes in sighting\, wetsuit stroke technique and familiarizing with the June Lake Triathlon race courses.\nNO Cost: FREE to 2023 HSTC Members
URL:https://highsierratri.org/event/saturday-open-water-swim-clinic-at-june-lake/
LOCATION:June Lake Beach\, Pinecliff Drive\, June Lake\, CA\, 93529\, United States
ORGANIZER;CN="HSTC":MAILTO:info@highsierratri.org
END:VEVENT
BEGIN:VEVENT
DTSTART;TZID=UTC:20230805T090000
DTEND;TZID=UTC:20230805T100000
DTSTAMP:20260423T135714
CREATED:20230713T190233Z
LAST-MODIFIED:20230713T190233Z
UID:298-1691226000-1691229600@highsierratri.org
SUMMARY:Saturday Swims
DESCRIPTION:Join Us every Saturday for the Summer! \n \nWhen: 9-10am\nWhere: Whitmore Pool – Benton Crossing Road\nWhat: Coach Alana gives the group a workout and technique feedback each session.\nNO Cost: FREE to 2023 HSTC Members
URL:https://highsierratri.org/event/saturday-swims-9/
LOCATION:Whitmore Pool\, Benton Crossing Road\, Mammoth Lakes\, CA\, 93546\, United States
ORGANIZER;CN="HSTC":MAILTO:info@highsierratri.org
END:VEVENT
BEGIN:VEVENT
DTSTART;TZID=UTC:20230730T080000
DTEND;TZID=UTC:20230730T100000
DTSTAMP:20260423T135714
CREATED:20230713T192252Z
LAST-MODIFIED:20230727T001217Z
UID:309-1690704000-1690711200@highsierratri.org
SUMMARY:Sunday Backcountry Run
DESCRIPTION:Route: Mammoth Rock Loop CCW \n\n\nDate: 30-July-2023\, Sunday\, 08:00h\n\nDistance: 6.3 miles\n\nElevation Gain: 900 feet\n\nLevel:  Intermediate – could set up a car shuttle at the propane tanks for those that want a shorter distance\n\nMeeting Place:  Below the gate on upper Old Mammoth Road near the fenced gravesite\, just past Fir Street into the Bluffs\n\nAdvice/Hazards:  Mountain bikes\, this is the reason for CCW loop.  Half liter of water is plenty and optional depending on temperatures.
URL:https://highsierratri.org/event/sunday-backcountry-run/
LOCATION:Mammoth Rock Trail\, The Bluffs Trailhead\, Mammoth Lakes\, CA\, 93546\, United States
ORGANIZER;CN="HSTC":MAILTO:info@highsierratri.org
END:VEVENT
BEGIN:VEVENT
DTSTART;TZID=UTC:20230729T090000
DTEND;TZID=UTC:20230729T100000
DTSTAMP:20260423T135714
CREATED:20230713T190052Z
LAST-MODIFIED:20230713T190052Z
UID:296-1690621200-1690624800@highsierratri.org
SUMMARY:Saturday Swims
DESCRIPTION:Join Us every Saturday for the Summer! \n \nWhen: 9-10am\nWhere: Whitmore Pool – Benton Crossing Road\nWhat: Coach Alana gives the group a workout and technique feedback each session.\nNO Cost: FREE to 2023 HSTC Members
URL:https://highsierratri.org/event/saturday-swims-8/
LOCATION:Whitmore Pool\, Benton Crossing Road\, Mammoth Lakes\, CA\, 93546\, United States
ORGANIZER;CN="HSTC":MAILTO:info@highsierratri.org
END:VEVENT
BEGIN:VEVENT
DTSTART;TZID=UTC:20230722T090000
DTEND;TZID=UTC:20230722T100000
DTSTAMP:20260423T135714
CREATED:20230713T190003Z
LAST-MODIFIED:20230713T190003Z
UID:294-1690016400-1690020000@highsierratri.org
SUMMARY:Saturday Swims
DESCRIPTION:Join Us every Saturday for the Summer! \n \nWhen: 9-10am\nWhere: Whitmore Pool – Benton Crossing Road\nWhat: Coach Alana gives the group a workout and technique feedback each session.\nNO Cost: FREE to 2023 HSTC Members
URL:https://highsierratri.org/event/saturday-swims-7/
LOCATION:Whitmore Pool\, Benton Crossing Road\, Mammoth Lakes\, CA\, 93546\, United States
ORGANIZER;CN="HSTC":MAILTO:info@highsierratri.org
END:VEVENT
BEGIN:VEVENT
DTSTART;TZID=UTC:20230715T090000
DTEND;TZID=UTC:20230715T100000
DTSTAMP:20260423T135714
CREATED:20230713T185754Z
LAST-MODIFIED:20230713T185754Z
UID:292-1689411600-1689415200@highsierratri.org
SUMMARY:Saturday Swims
DESCRIPTION:Join Us every Saturday for the Summer! \n \nWhen: 9-10am\nWhere: Whitmore Pool – Benton Crossing Road\nWhat: Coach Alana gives the group a workout and technique feedback each session.\nNO Cost: FREE to 2023 HSTC Members
URL:https://highsierratri.org/event/saturday-swims-6/
LOCATION:Whitmore Pool\, Benton Crossing Road\, Mammoth Lakes\, CA\, 93546\, United States
ORGANIZER;CN="HSTC":MAILTO:info@highsierratri.org
END:VEVENT
BEGIN:VEVENT
DTSTART;TZID=UTC:20230708T090000
DTEND;TZID=UTC:20230708T100000
DTSTAMP:20260423T135714
CREATED:20230713T185700Z
LAST-MODIFIED:20230713T185700Z
UID:290-1688806800-1688810400@highsierratri.org
SUMMARY:Saturday Swims
DESCRIPTION:Join Us every Saturday for the Summer! \n \nWhen: 9-10am\nWhere: Whitmore Pool – Benton Crossing Road\nWhat: Coach Alana gives the group a workout and technique feedback each session.\nNO Cost: FREE to 2023 HSTC Members
URL:https://highsierratri.org/event/saturday-swims-5/
LOCATION:Whitmore Pool\, Benton Crossing Road\, Mammoth Lakes\, CA\, 93546\, United States
ORGANIZER;CN="HSTC":MAILTO:info@highsierratri.org
END:VEVENT
BEGIN:VEVENT
DTSTART;TZID=UTC:20230701T090000
DTEND;TZID=UTC:20230701T100000
DTSTAMP:20260423T135714
CREATED:20230713T185601Z
LAST-MODIFIED:20230713T185601Z
UID:288-1688202000-1688205600@highsierratri.org
SUMMARY:Saturday Swims
DESCRIPTION:Join Us every Saturday for the Summer! \n \nWhen: 9-10am\nWhere: Whitmore Pool – Benton Crossing Road\nWhat: Coach Alana gives the group a workout and technique feedback each session.\nNO Cost: FREE to 2023 HSTC Members
URL:https://highsierratri.org/event/saturday-swims-4/
LOCATION:Whitmore Pool\, Benton Crossing Road\, Mammoth Lakes\, CA\, 93546\, United States
ORGANIZER;CN="HSTC":MAILTO:info@highsierratri.org
END:VEVENT
BEGIN:VEVENT
DTSTART;TZID=UTC:20230624T090000
DTEND;TZID=UTC:20230624T100000
DTSTAMP:20260423T135714
CREATED:20230713T185508Z
LAST-MODIFIED:20230713T185508Z
UID:286-1687597200-1687600800@highsierratri.org
SUMMARY:Saturday Swims
DESCRIPTION:Join Us every Saturday for the Summer! \n \nWhen: 9-10am\nWhere: Whitmore Pool – Benton Crossing Road\nWhat: Coach Alana gives the group a workout and technique feedback each session.\nNO Cost: FREE to 2023 HSTC Members
URL:https://highsierratri.org/event/saturday-swims-3/
LOCATION:Whitmore Pool\, Benton Crossing Road\, Mammoth Lakes\, CA\, 93546\, United States
ORGANIZER;CN="HSTC":MAILTO:info@highsierratri.org
END:VEVENT
BEGIN:VEVENT
DTSTART;TZID=UTC:20230617T090000
DTEND;TZID=UTC:20230617T100000
DTSTAMP:20260423T135714
CREATED:20230713T185250Z
LAST-MODIFIED:20230713T185250Z
UID:284-1686992400-1686996000@highsierratri.org
SUMMARY:Saturday Swims
DESCRIPTION:Join Us every Saturday for the Summer! \n \nWhen: 9-10am\nWhere: Whitmore Pool – Benton Crossing Road\nWhat: Coach Alana gives the group a workout and technique feedback each session.\nNO Cost: FREE to 2023 HSTC Members
URL:https://highsierratri.org/event/saturday-swims-2/
LOCATION:Whitmore Pool\, Benton Crossing Road\, Mammoth Lakes\, CA\, 93546\, United States
ORGANIZER;CN="HSTC":MAILTO:info@highsierratri.org
END:VEVENT
BEGIN:VEVENT
DTSTART;TZID=UTC:20230610T090000
DTEND;TZID=UTC:20230610T100000
DTSTAMP:20260423T135714
CREATED:20230713T185126Z
LAST-MODIFIED:20230713T185126Z
UID:282-1686387600-1686391200@highsierratri.org
SUMMARY:Saturday Swims
DESCRIPTION:Join Us every Saturday for the Summer! \n \nWhen: 9-10am\nWhere: Whitmore Pool – Benton Crossing Road\nWhat: Coach Alana gives the group a workout and technique feedback each session.\nNO Cost: FREE to 2023 HSTC Members
URL:https://highsierratri.org/event/saturday-swims/
LOCATION:Whitmore Pool\, Benton Crossing Road\, Mammoth Lakes\, CA\, 93546\, United States
ORGANIZER;CN="HSTC":MAILTO:info@highsierratri.org
END:VEVENT
BEGIN:VEVENT
DTSTART;TZID=UTC:20230607T080000
DTEND;TZID=UTC:20230607T170000
DTSTAMP:20260423T135714
CREATED:20230607T181829Z
LAST-MODIFIED:20230607T181829Z
UID:257-1686124800-1686157200@highsierratri.org
SUMMARY:Coached Swim Workouts
DESCRIPTION:Join Us every Saturday for the Summer! \n \nWhen: 9-10am\nWhere: Whitmore Pool – Benton Crossing Road\nWhat: Coach Alana gives the group a workout and technique feedback each session.\nNO Cost: FREE to 2023 HSTC Members
URL:https://highsierratri.org/event/coached-swim-workouts-5/
LOCATION:CA
END:VEVENT
BEGIN:VEVENT
DTSTART;TZID=UTC:20220909T090000
DTEND;TZID=UTC:20220909T120000
DTSTAMP:20260423T135714
CREATED:20220214T194314Z
LAST-MODIFIED:20220214T194429Z
UID:136-1662714000-1662724800@highsierratri.org
SUMMARY:Granite to Granite Swim
DESCRIPTION:This is now a Club hosted event open to current HSTC Members only. \nClub members will help organize and set a few buoys out to guide swimmers. \nPlease recruit volunteers to join us on the water in kayaks\, on paddle boards or in boats for a safe swim day. \nWear your watches for self timing. \nSwim 2.4miles (3900meters) \nFeel free to join even if you are not going to swim the full distance; it’s all about a group swim day in June Lake! \nYou are welcome to take the original “Graniteman Challenge” by linking up this swim day with the Mammoth Gran Fondo and the Tioga Pass Run!
URL:https://highsierratri.org/event/granite-to-granite-swim/
LOCATION:June Lake\, CA\, June Lake\, CA\, United States
ORGANIZER;CN="HSTC":MAILTO:info@highsierratri.org
END:VEVENT
BEGIN:VEVENT
DTSTART;TZID=UTC:20220907T090000
DTEND;TZID=UTC:20220907T110000
DTSTAMP:20260423T135714
CREATED:20220614T041003Z
LAST-MODIFIED:20220614T041003Z
UID:227-1662541200-1662548400@highsierratri.org
SUMMARY:Big Wednesdays Group Ride to Watterson (with swim option)
DESCRIPTION:Tri Club Members join up every Wednesday to ride from Whitmore Pool to Watterson Summit. \nOptions to go shorter or longer. \nThese are self led group workouts. \nFREE to Club Members / Must be a member to participate. \nSome folks will swim before at Whitmore Pool – lap swim goes until 8:30am. Just be ready to ride at 9. \nGreat triathlon practice!
URL:https://highsierratri.org/event/big-wednesdays-group-ride-to-watterson-with-swim-option-9/
LOCATION:Whitmore Pool\, Benton Crossing Road\, Mammoth Lakes\, CA\, 93546\, United States
ORGANIZER;CN="HSTC":MAILTO:info@highsierratri.org
END:VEVENT
BEGIN:VEVENT
DTSTART;TZID=UTC:20220906T090000
DTEND;TZID=UTC:20220906T100000
DTSTAMP:20260423T135714
CREATED:20220614T034414Z
LAST-MODIFIED:20220614T034414Z
UID:198-1662454800-1662458400@highsierratri.org
SUMMARY:June Lake Open Water Group Swims
DESCRIPTION:Join us every Tuesday for open water swims at June Lake with the Tri Club! \nThese are informal group workouts led by Club members. \nGreat practice for triathlons and Graniteman Challenge. \nSometimes folks will ride or run the JLT course after as well. \nFREE to members – must be a member to participate.
URL:https://highsierratri.org/event/june-lake-open-water-group-swims-10/
LOCATION:June Lake Beach\, Pinecliff Drive\, June Lake\, CA\, 93529\, United States
ORGANIZER;CN="HSTC":MAILTO:info@highsierratri.org
END:VEVENT
BEGIN:VEVENT
DTSTART;TZID=UTC:20220831T090000
DTEND;TZID=UTC:20220831T110000
DTSTAMP:20260423T135714
CREATED:20220614T040904Z
LAST-MODIFIED:20220614T040904Z
UID:225-1661936400-1661943600@highsierratri.org
SUMMARY:Big Wednesdays Group Ride to Watterson (with swim option)
DESCRIPTION:Tri Club Members join up every Wednesday to ride from Whitmore Pool to Watterson Summit. \nOptions to go shorter or longer. \nThese are self led group workouts. \nFREE to Club Members / Must be a member to participate. \nSome folks will swim before at Whitmore Pool – lap swim goes until 8:30am. Just be ready to ride at 9. \nGreat triathlon practice!
URL:https://highsierratri.org/event/big-wednesdays-group-ride-to-watterson-with-swim-option-8/
LOCATION:Whitmore Pool\, Benton Crossing Road\, Mammoth Lakes\, CA\, 93546\, United States
ORGANIZER;CN="HSTC":MAILTO:info@highsierratri.org
END:VEVENT
BEGIN:VEVENT
DTSTART;TZID=UTC:20220830T090000
DTEND;TZID=UTC:20220830T100000
DTSTAMP:20260423T135714
CREATED:20220614T034238Z
LAST-MODIFIED:20220614T034238Z
UID:196-1661850000-1661853600@highsierratri.org
SUMMARY:June Lake Open Water Group Swims
DESCRIPTION:Join us every Tuesday for open water swims at June Lake with the Tri Club! \nThese are informal group workouts led by Club members. \nGreat practice for triathlons and Graniteman Challenge. \nSometimes folks will ride or run the JLT course after as well. \nFREE to members – must be a member to participate.
URL:https://highsierratri.org/event/june-lake-open-water-group-swims-9/
LOCATION:June Lake Beach\, Pinecliff Drive\, June Lake\, CA\, 93529\, United States
ORGANIZER;CN="HSTC":MAILTO:info@highsierratri.org
END:VEVENT
BEGIN:VEVENT
DTSTART;TZID=UTC:20220829T083000
DTEND;TZID=UTC:20220829T093000
DTSTAMP:20260423T135714
CREATED:20220909T220321Z
LAST-MODIFIED:20220909T220321Z
UID:236-1661761800-1661765400@highsierratri.org
SUMMARY:Coached Swim Workouts
DESCRIPTION:1-hr swim training session with coach feedback. \nIncluded with 2022 HSTC Membership so must be a current member to participate.
URL:https://highsierratri.org/event/coached-swim-workouts-4/
LOCATION:Whitmore Pool\, Benton Crossing Road\, Mammoth Lakes\, CA\, 93546\, United States
ORGANIZER;CN="Coach Alana":MAILTO:info@highsierratri.org
END:VEVENT
BEGIN:VEVENT
DTSTART;TZID=UTC:20220824T090000
DTEND;TZID=UTC:20220824T110000
DTSTAMP:20260423T135714
CREATED:20220614T040811Z
LAST-MODIFIED:20220614T040811Z
UID:223-1661331600-1661338800@highsierratri.org
SUMMARY:Big Wednesdays Group Ride to Watterson (with swim option)
DESCRIPTION:Tri Club Members join up every Wednesday to ride from Whitmore Pool to Watterson Summit. \nOptions to go shorter or longer. \nThese are self led group workouts. \nFREE to Club Members / Must be a member to participate. \nSome folks will swim before at Whitmore Pool – lap swim goes until 8:30am. Just be ready to ride at 9. \nGreat triathlon practice!
URL:https://highsierratri.org/event/big-wednesdays-group-ride-to-watterson-with-swim-option-7/
LOCATION:Whitmore Pool\, Benton Crossing Road\, Mammoth Lakes\, CA\, 93546\, United States
ORGANIZER;CN="HSTC":MAILTO:info@highsierratri.org
END:VEVENT
BEGIN:VEVENT
DTSTART;TZID=UTC:20220823T090000
DTEND;TZID=UTC:20220823T100000
DTSTAMP:20260423T135714
CREATED:20220614T034157Z
LAST-MODIFIED:20220614T034157Z
UID:194-1661245200-1661248800@highsierratri.org
SUMMARY:June Lake Open Water Group Swims
DESCRIPTION:Join us every Tuesday for open water swims at June Lake with the Tri Club! \nThese are informal group workouts led by Club members. \nGreat practice for triathlons and Graniteman Challenge. \nSometimes folks will ride or run the JLT course after as well. \nFREE to members – must be a member to participate.
URL:https://highsierratri.org/event/june-lake-open-water-group-swims-8/
LOCATION:June Lake Beach\, Pinecliff Drive\, June Lake\, CA\, 93529\, United States
ORGANIZER;CN="HSTC":MAILTO:info@highsierratri.org
END:VEVENT
BEGIN:VEVENT
DTSTART;TZID=UTC:20220822T083000
DTEND;TZID=UTC:20220822T093000
DTSTAMP:20260423T135714
CREATED:20220909T220229Z
LAST-MODIFIED:20220909T220229Z
UID:234-1661157000-1661160600@highsierratri.org
SUMMARY:Coached Swim Workouts
DESCRIPTION:1-hr swim training session with coach feedback. \nIncluded with 2022 HSTC Membership so must be a current member to participate.
URL:https://highsierratri.org/event/coached-swim-workouts-3/
LOCATION:Whitmore Pool\, Benton Crossing Road\, Mammoth Lakes\, CA\, 93546\, United States
ORGANIZER;CN="Coach Alana":MAILTO:info@highsierratri.org
END:VEVENT
BEGIN:VEVENT
DTSTART;TZID=UTC:20220817T090000
DTEND;TZID=UTC:20220817T110000
DTSTAMP:20260423T135714
CREATED:20220614T040646Z
LAST-MODIFIED:20220614T040646Z
UID:221-1660726800-1660734000@highsierratri.org
SUMMARY:Big Wednesday Group Rides to Watterson (with swim option)
DESCRIPTION:Tri Club Members join up every Wednesday to ride from Whitmore Pool to Watterson Summit. \nOptions to go shorter or longer. \nThese are self led group workouts. \nFREE to Club Members / Must be a member to participate. \nSome folks will swim before at Whitmore Pool – lap swim goes until 8:30am. Just be ready to ride at 9. \nGreat triathlon practice!
URL:https://highsierratri.org/event/big-wednesday-group-rides-to-watterson-with-swim-option/
LOCATION:Whitmore Pool\, Benton Crossing Road\, Mammoth Lakes\, CA\, 93546\, United States
ORGANIZER;CN="HSTC":MAILTO:info@highsierratri.org
END:VEVENT
BEGIN:VEVENT
DTSTART;TZID=UTC:20220816T090000
DTEND;TZID=UTC:20220816T100000
DTSTAMP:20260423T135714
CREATED:20220614T034100Z
LAST-MODIFIED:20220614T034100Z
UID:192-1660640400-1660644000@highsierratri.org
SUMMARY:June Lake Open Water Group Swims
DESCRIPTION:Join us every Tuesday for open water swims at June Lake with the Tri Club! \nThese are informal group workouts led by Club members. \nGreat practice for triathlons and Graniteman Challenge. \nSometimes folks will ride or run the JLT course after as well. \nFREE to members – must be a member to participate.
URL:https://highsierratri.org/event/june-lake-open-water-group-swims-7/
LOCATION:June Lake Beach\, Pinecliff Drive\, June Lake\, CA\, 93529\, United States
ORGANIZER;CN="HSTC":MAILTO:info@highsierratri.org
END:VEVENT
BEGIN:VEVENT
DTSTART;TZID=UTC:20220815T083000
DTEND;TZID=UTC:20220815T093000
DTSTAMP:20260423T135714
CREATED:20220909T220101Z
LAST-MODIFIED:20220909T220101Z
UID:232-1660552200-1660555800@highsierratri.org
SUMMARY:Coached Swim Workouts
DESCRIPTION:1-hr swim training session with coach feedback. \nIncluded with 2022 HSTC Membership so must be a current member to participate.
URL:https://highsierratri.org/event/coached-swim-workouts-2/
LOCATION:Whitmore Pool\, Benton Crossing Road\, Mammoth Lakes\, CA\, 93546\, United States
ORGANIZER;CN="Coach Alana":MAILTO:info@highsierratri.org
END:VEVENT
BEGIN:VEVENT
DTSTART;TZID=UTC:20220810T090000
DTEND;TZID=UTC:20220810T110000
DTSTAMP:20260423T135714
CREATED:20220614T040534Z
LAST-MODIFIED:20220614T040534Z
UID:219-1660122000-1660129200@highsierratri.org
SUMMARY:Big Wednesdays Group Ride to Watterson (with swim option)
DESCRIPTION:Tri Club Members join up every Wednesday to ride from Whitmore Pool to Watterson Summit. \nOptions to go shorter or longer. \nThese are self led group workouts. \nFREE to Club Members / Must be a member to participate. \nSome folks will swim before at Whitmore Pool – lap swim goes until 8:30am. Just be ready to ride at 9. \nGreat triathlon practice!
URL:https://highsierratri.org/event/big-wednesdays-group-ride-to-watterson-with-swim-option-6/
LOCATION:Whitmore Pool\, Benton Crossing Road\, Mammoth Lakes\, CA\, 93546\, United States
ORGANIZER;CN="HSTC":MAILTO:info@highsierratri.org
END:VEVENT
BEGIN:VEVENT
DTSTART;TZID=UTC:20220809T090000
DTEND;TZID=UTC:20220809T100000
DTSTAMP:20260423T135714
CREATED:20220614T033958Z
LAST-MODIFIED:20220614T033958Z
UID:190-1660035600-1660039200@highsierratri.org
SUMMARY:June Lake Open Water Group Swims
DESCRIPTION:Join us every Tuesday for open water swims at June Lake with the Tri Club! \nThese are informal group workouts led by Club members. \nGreat practice for triathlons and Graniteman Challenge. \nSometimes folks will ride or run the JLT course after as well. \nFREE to members – must be a member to participate.
URL:https://highsierratri.org/event/june-lake-open-water-group-swims-6/
LOCATION:June Lake Beach\, Pinecliff Drive\, June Lake\, CA\, 93529\, United States
ORGANIZER;CN="HSTC":MAILTO:info@highsierratri.org
END:VEVENT
BEGIN:VEVENT
DTSTART;TZID=UTC:20220803T090000
DTEND;TZID=UTC:20220803T110000
DTSTAMP:20260423T135714
CREATED:20220614T040445Z
LAST-MODIFIED:20220614T040445Z
UID:217-1659517200-1659524400@highsierratri.org
SUMMARY:Big Wednesdays Group Ride to Watterson (with swim option)
DESCRIPTION:Tri Club Members join up every Wednesday to ride from Whitmore Pool to Watterson Summit. \nOptions to go shorter or longer. \nThese are self led group workouts. \nFREE to Club Members / Must be a member to participate. \nSome folks will swim before at Whitmore Pool – lap swim goes until 8:30am. Just be ready to ride at 9. \nGreat triathlon practice!
URL:https://highsierratri.org/event/big-wednesdays-group-ride-to-watterson-with-swim-option-5/
LOCATION:Whitmore Pool\, Benton Crossing Road\, Mammoth Lakes\, CA\, 93546\, United States
ORGANIZER;CN="HSTC":MAILTO:info@highsierratri.org
END:VEVENT
BEGIN:VEVENT
DTSTART;TZID=UTC:20220802T090000
DTEND;TZID=UTC:20220802T100000
DTSTAMP:20260423T135714
CREATED:20220614T033913Z
LAST-MODIFIED:20220614T033913Z
UID:188-1659430800-1659434400@highsierratri.org
SUMMARY:June Lake Open Water Group Swims
DESCRIPTION:Join us every Tuesday for open water swims at June Lake with the Tri Club! \nThese are informal group workouts led by Club members. \nGreat practice for triathlons and Graniteman Challenge. \nSometimes folks will ride or run the JLT course after as well. \nFREE to members – must be a member to participate.
URL:https://highsierratri.org/event/june-lake-open-water-group-swims-5/
LOCATION:June Lake Beach\, Pinecliff Drive\, June Lake\, CA\, 93529\, United States
ORGANIZER;CN="HSTC":MAILTO:info@highsierratri.org
END:VEVENT
BEGIN:VEVENT
DTSTART;TZID=UTC:20220727T090000
DTEND;TZID=UTC:20220727T110000
DTSTAMP:20260423T135714
CREATED:20220614T040351Z
LAST-MODIFIED:20220614T040351Z
UID:215-1658912400-1658919600@highsierratri.org
SUMMARY:Big Wednesdays Group Ride to Watterson (with swim option)
DESCRIPTION:Tri Club Members join up every Wednesday to ride from Whitmore Pool to Watterson Summit. \nOptions to go shorter or longer. \nThese are self led group workouts. \nFREE to Club Members / Must be a member to participate. \nSome folks will swim before at Whitmore Pool – lap swim goes until 8:30am. Just be ready to ride at 9. \nGreat triathlon practice!
URL:https://highsierratri.org/event/big-wednesdays-group-ride-to-watterson-with-swim-option-4/
LOCATION:Whitmore Pool\, Benton Crossing Road\, Mammoth Lakes\, CA\, 93546\, United States
ORGANIZER;CN="HSTC":MAILTO:info@highsierratri.org
END:VEVENT
BEGIN:VEVENT
DTSTART;TZID=UTC:20220726T090000
DTEND;TZID=UTC:20220726T100000
DTSTAMP:20260423T135714
CREATED:20220614T033746Z
LAST-MODIFIED:20220614T033746Z
UID:186-1658826000-1658829600@highsierratri.org
SUMMARY:June Lake Open Water Group Swims
DESCRIPTION:Join us every Tuesday for open water swims at June Lake with the Tri Club! \nThese are informal group workouts led by Club members. \nGreat practice for triathlons and Graniteman Challenge. \nSometimes folks will ride or run the JLT course after as well. \nFREE to members – must be a member to participate.
URL:https://highsierratri.org/event/june-lake-open-water-group-swims-4/
LOCATION:June Lake Beach\, Pinecliff Drive\, June Lake\, CA\, 93529\, United States
ORGANIZER;CN="HSTC":MAILTO:info@highsierratri.org
END:VEVENT
END:VCALENDAR