BEGIN:VCALENDAR
VERSION:2.0
PRODID:-//High Sierra Tri - ECPv6.14.2//NONSGML v1.0//EN
CALSCALE:GREGORIAN
METHOD:PUBLISH
X-ORIGINAL-URL:https://highsierratri.org
X-WR-CALDESC:Events for High Sierra Tri
REFRESH-INTERVAL;VALUE=DURATION:PT1H
X-Robots-Tag:noindex
X-PUBLISHED-TTL:PT1H
BEGIN:VTIMEZONE
TZID:UTC
BEGIN:STANDARD
TZOFFSETFROM:+0000
TZOFFSETTO:+0000
TZNAME:UTC
DTSTART:20240101T000000
END:STANDARD
END:VTIMEZONE
BEGIN:VEVENT
DTSTART;TZID=UTC:20250623T083000
DTEND;TZID=UTC:20250623T093000
DTSTAMP:20260421T125242
CREATED:20250507T013547Z
LAST-MODIFIED:20250618T235509Z
UID:430-1750667400-1750671000@highsierratri.org
SUMMARY:MASTERS SWIM WORKOUT
DESCRIPTION:These are 1-hour coached workouts for all swimmers: triathletes\, masters\, competitive\, fitness enthusiasts – all are welcome. \nThis week Sally gives the workout from the pool to swim together.
URL:https://highsierratri.org/event/masters-swim-workout-6/
LOCATION:Whitmore Pool\, Benton Crossing Road\, Mammoth Lakes\, CA\, 93546\, United States
ORGANIZER;CN="HSTC":MAILTO:info@highsierratri.org
END:VEVENT
BEGIN:VEVENT
DTSTART;TZID=UTC:20250616T100000
DTEND;TZID=UTC:20250616T113000
DTSTAMP:20260421T125242
CREATED:20250507T015531Z
LAST-MODIFIED:20250609T195114Z
UID:447-1750068000-1750073400@highsierratri.org
SUMMARY:BIKE WORKOUT
DESCRIPTION:Join us after the Masters Swim workout for a ride on Benton Crossing Road.\nMeet ready to ride at the Whitmore Pool parking lot.\nPlan on 1-hour workout incorporating short efforts. \nToday’s ride is led by Sally Gaines\, National and World Age Group Champion! \nEach week we ride or run after the swim for those who want to add on to their Monday training.\nThis is an informal session led by a Tri Club Board Member or Members.
URL:https://highsierratri.org/event/bike-workout-4/
LOCATION:Whitmore Pool\, Benton Crossing Road\, Mammoth Lakes\, CA\, 93546\, United States
ORGANIZER;CN="HSTC":MAILTO:info@highsierratri.org
END:VEVENT
BEGIN:VEVENT
DTSTART;TZID=UTC:20250616T083000
DTEND;TZID=UTC:20250616T093000
DTSTAMP:20260421T125242
CREATED:20250507T013509Z
LAST-MODIFIED:20250507T013509Z
UID:428-1750062600-1750066200@highsierratri.org
SUMMARY:MASTERS SWIM WORKOUT
DESCRIPTION:These are 1-hour coached workouts for all swimmers: triathletes\, masters\, competitive\, fitness enthusiasts – all are welcome. \nEach week Coach Alana leads the workout from the deck and gives technical drills and feedback.
URL:https://highsierratri.org/event/masters-swim-workout-5/
LOCATION:Whitmore Pool\, Benton Crossing Road\, Mammoth Lakes\, CA\, 93546\, United States
ORGANIZER;CN="HSTC":MAILTO:info@highsierratri.org
END:VEVENT
BEGIN:VEVENT
DTSTART;TZID=UTC:20250609T100000
DTEND;TZID=UTC:20250609T110000
DTSTAMP:20260421T125242
CREATED:20250507T015136Z
LAST-MODIFIED:20250529T200915Z
UID:444-1749463200-1749466800@highsierratri.org
SUMMARY:RUN WORKOUT
DESCRIPTION:Join us after the Masters Swim workout for a track workout.\nMeet ready to run at Mammoth Track.\nPlan on warm up\, drills and some tempo efforts. \nToday’s run is led by Coach Alana. We’ll warm up\, practice drills and focus on running form. \nEach week we ride or run after the swim for those who want to add on to their Monday training.\nThis is an informal session led by a Tri Club Board Member or Members.
URL:https://highsierratri.org/event/run-workout-2/
LOCATION:Mammoth Track\, benton crossing road\, mammoth lakes\, CA\, 93546\, United States
ORGANIZER;CN="HSTC":MAILTO:info@highsierratri.org
END:VEVENT
BEGIN:VEVENT
DTSTART;TZID=UTC:20250609T083000
DTEND;TZID=UTC:20250609T093000
DTSTAMP:20260421T125242
CREATED:20250507T013420Z
LAST-MODIFIED:20250507T013420Z
UID:426-1749457800-1749461400@highsierratri.org
SUMMARY:MASTERS SWIM WORKOUT
DESCRIPTION:These are 1-hour coached workouts for all swimmers: triathletes\, masters\, competitive\, fitness enthusiasts – all are welcome. \nEach week Coach Alana leads the workout from the deck and gives technical drills and feedback.
URL:https://highsierratri.org/event/masters-swim-workout-4/
LOCATION:Whitmore Pool\, Benton Crossing Road\, Mammoth Lakes\, CA\, 93546\, United States
ORGANIZER;CN="HSTC":MAILTO:info@highsierratri.org
END:VEVENT
BEGIN:VEVENT
DTSTART;TZID=UTC:20250602T100000
DTEND;TZID=UTC:20250602T110000
DTSTAMP:20260421T125242
CREATED:20250507T014733Z
LAST-MODIFIED:20250530T223858Z
UID:442-1748858400-1748862000@highsierratri.org
SUMMARY:BIKE WORKOUT
DESCRIPTION:Meet at Whitmore Pool Parking lot ready to ride at 10am. \nPlan on an  easy aerobic effort in endurance zone 2. About 1-2 hours depending on group/time. \nDue to cooling temps\, layer up today. \nWe offer a ride or run after the swim workout for those who want to add on to their Monday training.\nThis is an informal session led by a Tri Club Board Member or Members.\nToday’s ride is led by Club President and seasoned triathlete age group champion\, Jerri Higinbotham.
URL:https://highsierratri.org/event/bike-workout-3/
LOCATION:Whitmore Pool\, Benton Crossing Road\, Mammoth Lakes\, CA\, 93546\, United States
ORGANIZER;CN="HSTC":MAILTO:info@highsierratri.org
END:VEVENT
BEGIN:VEVENT
DTSTART;TZID=UTC:20250602T083000
DTEND;TZID=UTC:20250602T093000
DTSTAMP:20260421T125242
CREATED:20250507T013328Z
LAST-MODIFIED:20250530T223710Z
UID:424-1748853000-1748856600@highsierratri.org
SUMMARY:MASTERS SWIM WORKOUT WITH COACH
DESCRIPTION:These are 1-hour coached workouts for all swimmers: triathletes\, masters\, competitive\, fitness enthusiasts – all are welcome. \nEach week Coach Alana leads the workout from the deck and gives technical drills and feedback.
URL:https://highsierratri.org/event/masters-swim-workout-3/
LOCATION:Whitmore Pool\, Benton Crossing Road\, Mammoth Lakes\, CA\, 93546\, United States
ORGANIZER;CN="HSTC":MAILTO:info@highsierratri.org
END:VEVENT
BEGIN:VEVENT
DTSTART;TZID=UTC:20250526T100000
DTEND;TZID=UTC:20250526T110000
DTSTAMP:20260421T125242
CREATED:20250429T001903Z
LAST-MODIFIED:20250523T224245Z
UID:416-1748253600-1748257200@highsierratri.org
SUMMARY:Club Ride
DESCRIPTION:Because the pool is still closed we thought we would gather for a casual club ride.\nNo formal workout but get on your bikes to get training for the season. \nStarts at Whitmore Pool parking lot.\nPlan on an out and back as far as individuals/ group wants to go.\nToday’s ride is coordinated by Club President and seasoned triathlete age group champion\, Jerri Higinbotham. \nEach week we ride or run after the swim for those who want to add on to their Monday training.\nThis is an informal session led by a Tri Club Board Member or Members.
URL:https://highsierratri.org/event/run-workout/
LOCATION:Whitmore Pool\, Benton Crossing Road\, Mammoth Lakes\, CA\, 93546\, United States
ORGANIZER;CN="HSTC":MAILTO:info@highsierratri.org
END:VEVENT
BEGIN:VEVENT
DTSTART;TZID=UTC:20250526T083000
DTEND;TZID=UTC:20250526T093000
DTSTAMP:20260421T125242
CREATED:20250429T001613Z
LAST-MODIFIED:20250523T221138Z
UID:414-1748248200-1748251800@highsierratri.org
SUMMARY:CANCELLED - NO Masters Swim Workout
DESCRIPTION:Whitmore Pool heater is being repaired. Estimated re-opening date for the pool is June 3rd. We’ll keep you posted as we get updates/confirmation. \n  \nThese are 1-hour coached workouts for all swimmers: triathletes\, masters\, competitive\, fitness enthusiasts – all are welcome. Each week Coach Alana leads the workout from the deck and gives technical drills and feedback.
URL:https://highsierratri.org/event/masters-swim-workout-2/
LOCATION:Whitmore Pool\, Benton Crossing Road\, Mammoth Lakes\, CA\, 93546\, United States
ORGANIZER;CN="HSTC":MAILTO:info@highsierratri.org
END:VEVENT
BEGIN:VEVENT
DTSTART;TZID=UTC:20250519T100000
DTEND;TZID=UTC:20250519T110000
DTSTAMP:20260421T125242
CREATED:20250429T001447Z
LAST-MODIFIED:20250517T231550Z
UID:412-1747648800-1747652400@highsierratri.org
SUMMARY:CANCELLED - NO Bike Workout
DESCRIPTION:NO POST SWIM RIDE THIS WEEK:\nWe’ll resume next week when pool temps are up and air temps too. \n  \nJoin us for a bike ride after the Swim workout.\nMeet in the parking lot ready to ride at 10am.\nRide will be about 1-hour. \nThis week Coach Alana leads the session with warm up drills and bike handling skills.
URL:https://highsierratri.org/event/bike-workout-2/
LOCATION:Whitmore Pool\, Benton Crossing Road\, Mammoth Lakes\, CA\, 93546\, United States
ORGANIZER;CN="HSTC":MAILTO:info@highsierratri.org
END:VEVENT
BEGIN:VEVENT
DTSTART;TZID=UTC:20250519T083000
DTEND;TZID=UTC:20250519T093000
DTSTAMP:20260421T125242
CREATED:20250429T001151Z
LAST-MODIFIED:20250517T231447Z
UID:410-1747643400-1747647000@highsierratri.org
SUMMARY:CANCELLED - NO Masters Swim Workout
DESCRIPTION:Pool Heater being repaired so postponing to next week to get more reasonable temperatures. \nThese are 1-hour coached workouts for all swimmers: triathletes\, masters\, competitive\, fitness enthusiasts – all are welcome. \nEach week Coach Alana leads the workout from the deck and gives technical drills and feedback. \n 
URL:https://highsierratri.org/event/masters-swim-workout/
LOCATION:Whitmore Pool\, Benton Crossing Road\, Mammoth Lakes\, CA\, 93546\, United States
ORGANIZER;CN="HSTC":MAILTO:info@highsierratri.org
END:VEVENT
BEGIN:VEVENT
DTSTART;TZID=UTC:20250512T100000
DTEND;TZID=UTC:20250512T110000
DTSTAMP:20260421T125242
CREATED:20250429T000453Z
LAST-MODIFIED:20250429T000624Z
UID:404-1747044000-1747047600@highsierratri.org
SUMMARY:Bike Workout
DESCRIPTION:Join us after the Masters Swim workout for an introductory ride on Benton Crossing Road.\nPlan on a 5-10mile ride (out to the river/ campground) and back nice and easy.\nReview traffic and group riding etiquette on our first day out this season. \nEach week we ride or run after the swim for those who want to add on to their Monday training.\nThis is an informal session led by a Tri Club Board Member or Members.\nToday’s ride is led by Club President and seasoned triathlete age group champion\, Jerri Higinbotham. \n 
URL:https://highsierratri.org/event/bike-workout/
LOCATION:Whitmore Pool\, Benton Crossing Road\, Mammoth Lakes\, CA\, 93546\, United States
ORGANIZER;CN="HSTC":MAILTO:info@highsierratri.org
END:VEVENT
BEGIN:VEVENT
DTSTART;TZID=UTC:20250512T083000
DTEND;TZID=UTC:20250512T093000
DTSTAMP:20260421T125242
CREATED:20250326T211454Z
LAST-MODIFIED:20250326T211503Z
UID:402-1747038600-1747042200@highsierratri.org
SUMMARY:1st Swim Workout at Whitmore
DESCRIPTION:Join us for our 1st coached swim session at Whitmore Pool. \nStart the season off strong! \nEach week Coach Alana leads technique\, skills and fitness to get ready for the competition season and/or overall health.
URL:https://highsierratri.org/event/1st-swim-workout-at-whitmore/
LOCATION:Whitmore Pool\, Benton Crossing Road\, Mammoth Lakes\, CA\, 93546\, United States
ORGANIZER;CN="HSTC":MAILTO:info@highsierratri.org
END:VEVENT
BEGIN:VEVENT
DTSTART;TZID=UTC:20240906T000000
DTEND;TZID=UTC:20240908T233000
DTSTAMP:20260421T125242
CREATED:20240901T211854Z
LAST-MODIFIED:20240901T211854Z
UID:390-1725580800-1725838200@highsierratri.org
SUMMARY:Graniteman Challenge - self directed
DESCRIPTION:This year we will not host an official open water swim\, but we invite you to swim on your own (OYO) Friday\, September 6th.\nYou can opt for a pool swim (Whitmore Pool’s final day of being open for lap swim 6:30-8:30am) or in open water (if you do please prioritize safety and swim with a friend who can support and/or a group).\nPost your swim-bike-run onto our Strava page for credit as a 2024 Graniteman!\nDistances are:\nSWIM 2.4 miles (3862 meters/ 4224 yards) anywhere Friday\, September 6th\nBIKE 102 miles in the Mammoth Gran Fondo Saturday\, September 7th\nRUN 12.4 miles in the Tioga Pass Run Sunday\, September 8th \n 
URL:https://highsierratri.org/event/graniteman-challenge-self-directed/
LOCATION:CA
END:VEVENT
BEGIN:VEVENT
DTSTART;VALUE=DATE:20240906
DTEND;VALUE=DATE:20240907
DTSTAMP:20260421T125242
CREATED:20240905T044835Z
LAST-MODIFIED:20240905T044835Z
UID:394-1725580800-1725667199@highsierratri.org
SUMMARY:Granite Swim Challenge - OYO
DESCRIPTION:This year we will not host an official open water swim\, but we invite you to swim on your own (OYO) Friday\, September 6th. \nANYTIME\, ANY LOCATION \nYou can opt for a pool swim (Whitmore Pool’s final day of being open for lap swim 6:30-8:30am) or in open water (if you do please prioritize safety and swim with a friend who can support and/or a group).\nPost your swim-bike-run onto our Strava page for credit as a 2024 Graniteman!\nDistances are:\nSWIM 2.4 miles (3862 meters/ 4224 yards) anywhere Friday\, September 6th.\nBIKE 102 miles in the Mammoth Gran Fondo Saturday\, September 7th\nRUN 12.4 miles in the Tioga Pass Run Sunday\, September 8th.
URL:https://highsierratri.org/event/granite-swim-challenge-oyo/
LOCATION:CA
END:VEVENT
BEGIN:VEVENT
DTSTART;TZID=UTC:20240826T083000
DTEND;TZID=UTC:20240826T093000
DTSTAMP:20260421T125242
CREATED:20240901T212119Z
LAST-MODIFIED:20240901T212119Z
UID:392-1724661000-1724664600@highsierratri.org
SUMMARY:Whitmore Swim Workout
DESCRIPTION:Coached Swim Workouts with Technique/Form Work at Whitmore Pool. FREE to HSTC Members (including pool fees). \n\nFREE to members
URL:https://highsierratri.org/event/whitmore-swim-workout-5/
LOCATION:Whitmore Pool\, Benton Crossing Road\, Mammoth Lakes\, CA\, 93546\, United States
ORGANIZER;CN="HSTC":MAILTO:info@highsierratri.org
END:VEVENT
BEGIN:VEVENT
DTSTART;TZID=UTC:20240819T083000
DTEND;TZID=UTC:20240819T093000
DTSTAMP:20260421T125242
CREATED:20240812T134439Z
LAST-MODIFIED:20240812T134439Z
UID:382-1724056200-1724059800@highsierratri.org
SUMMARY:Whitmore Swim Workout
DESCRIPTION:Coached swim workouts to improve efficiency with technique\, form and drill work along with a workout.\nFree to Members including Whitmore Pool Fees
URL:https://highsierratri.org/event/whitmore-swim-workout-4/
LOCATION:Whitmore Pool\, Benton Crossing Road\, Mammoth Lakes\, CA\, 93546\, United States
ORGANIZER;CN="HSTC":MAILTO:info@highsierratri.org
END:VEVENT
BEGIN:VEVENT
DTSTART;VALUE=DATE:20240817
DTEND;VALUE=DATE:20240818
DTSTAMP:20260421T125242
CREATED:20240704T205740Z
LAST-MODIFIED:20240704T205740Z
UID:361-1723852800-1723939199@highsierratri.org
SUMMARY:June Lake Triathlon
DESCRIPTION:JOIN us for our local race! \nJune Lake\, CA Triathlon
URL:https://highsierratri.org/event/june-lake-triathlon/
LOCATION:June Lake Beach\, Pinecliff Drive\, June Lake\, CA\, 93529\, United States
END:VEVENT
BEGIN:VEVENT
DTSTART;TZID=UTC:20240812T090000
DTEND;TZID=UTC:20240812T110000
DTSTAMP:20260421T125242
CREATED:20240614T171721Z
LAST-MODIFIED:20240812T134133Z
UID:346-1723453200-1723460400@highsierratri.org
SUMMARY:June Lake Swim Workout
DESCRIPTION:Coached Swim Workout with Open Water Technique & Form.\nCoach Alana will guide you out on the lake to learn and practice sighting\, wetsuit swimming and transitions.\nGet ready for racing triathlons!\nSwim in June Lake – home of the June Lake Triathlon. \nBring wetsuit and full race attire and equipment (for all swim\, bike and run) to practice transitions after swimming. \nFREE to HSTC Members (excluding beach fees – $10/day or $50/season).
URL:https://highsierratri.org/event/june-lake-swim-workout/
LOCATION:June Lake Beach\, Pinecliff Drive\, June Lake\, CA\, 93529\, United States
END:VEVENT
BEGIN:VEVENT
DTSTART;VALUE=DATE:20240805
DTEND;VALUE=DATE:20240806
DTSTAMP:20260421T125242
CREATED:20240722T041054Z
LAST-MODIFIED:20240722T220859Z
UID:367-1722816000-1722902399@highsierratri.org
SUMMARY:WHITMORE SWIM WORKOUT - no coach
DESCRIPTION:No coach this week but group will be together to train. \nWorkout posted/emailed by Alana below or led by Mallory in pool. \nWarm Up 200 free \n4 x 100 as:\nDrill: 50 (overlap)\nSwim: 50 (free – incorporating drill into swim) \nPyramid:\n50/100/200/400/200/100/50 (:30sec Rest Interval between each)\nZone 3 (tempo) Effort sets. \nCool Down 100\nMixed stroke (no FREE: back\, breast\, side\, elementary back)
URL:https://highsierratri.org/event/no-workout/
LOCATION:CA
END:VEVENT
BEGIN:VEVENT
DTSTART;TZID=UTC:20240729T093000
DTEND;TZID=UTC:20240729T110000
DTSTAMP:20260421T125242
CREATED:20240722T042320Z
LAST-MODIFIED:20240722T175917Z
UID:371-1722245400-1722250800@highsierratri.org
SUMMARY:June Lake Open Water Swim Clinic
DESCRIPTION:Practice open water swim technique. \nBring your swim wetsuit and a bright color swim cap. \nCoach will be on a paddle board to guide swimmers and give instruction and feedback. \nReminder there is a $10 fee to use the swim beach (for vehicles/ to park).
URL:https://highsierratri.org/event/june-lake-open-water-swim-clinic/
LOCATION:June Lake Beach\, Pinecliff Drive\, June Lake\, CA\, 93529\, United States
ORGANIZER;CN="HSTC":MAILTO:info@highsierratri.org
END:VEVENT
BEGIN:VEVENT
DTSTART;TZID=UTC:20240727T080000
DTEND;TZID=UTC:20240727T100000
DTSTAMP:20260421T125242
CREATED:20240721T211010Z
LAST-MODIFIED:20240721T211118Z
UID:364-1722067200-1722074400@highsierratri.org
SUMMARY:Mammoth Rock Run
DESCRIPTION:Scot leads us along this scenic and challenging trail run. \nMeet at the Sherwin Creek Road propane tank parking lot ready to run at 8am. \nFREE to current HSTC Members. \nNot up for the whole run? This out and back can be shortened anytime to match your current training level. \nJoin us for a fun group trail run! \nMust R.S.V.P. by Thursday\, July 25th to join.
URL:https://highsierratri.org/event/mammoth-rock-run/
LOCATION:Mammoth Rock Trail\, The Bluffs Trailhead\, Mammoth Lakes\, CA\, 93546\, United States
END:VEVENT
BEGIN:VEVENT
DTSTART;TZID=UTC:20240722T083000
DTEND;TZID=UTC:20240722T093000
DTSTAMP:20260421T125242
CREATED:20240617T174225Z
LAST-MODIFIED:20240617T174225Z
UID:353-1721637000-1721640600@highsierratri.org
SUMMARY:Whitmore Swim Workout
DESCRIPTION:Coached swim workouts to improve efficiency with technique\, form and drill work along with a workout.
URL:https://highsierratri.org/event/whitmore-swim-workout-2/
LOCATION:Whitmore Pool\, Benton Crossing Road\, Mammoth Lakes\, CA\, 93546\, United States
ORGANIZER;CN="HSTC":MAILTO:info@highsierratri.org
END:VEVENT
BEGIN:VEVENT
DTSTART;TZID=UTC:20240715T083000
DTEND;TZID=UTC:20240715T093000
DTSTAMP:20260421T125243
CREATED:20240704T205600Z
LAST-MODIFIED:20240704T205600Z
UID:358-1721032200-1721035800@highsierratri.org
SUMMARY:Whitmore Swim Workout
DESCRIPTION:Coached swim workouts to improve efficiency with technique\, form and drill work along with a workout. \nWhitmore Pool fees are covered by the Tri Club. FREE to current members.
URL:https://highsierratri.org/event/whitmore-swim-workout-3/
LOCATION:Whitmore Pool\, Benton Crossing Road\, Mammoth Lakes\, CA\, 93546\, United States
END:VEVENT
BEGIN:VEVENT
DTSTART;TZID=UTC:20240708T083000
DTEND;TZID=UTC:20240708T093000
DTSTAMP:20260421T125243
CREATED:20240617T174001Z
LAST-MODIFIED:20240617T174001Z
UID:351-1720427400-1720431000@highsierratri.org
SUMMARY:Whitmore Swim Workout
DESCRIPTION:Coached swim workouts to improve efficiency with technique\, form and drill work along with a workout.
URL:https://highsierratri.org/event/whitmore-swim-workout/
LOCATION:Whitmore Pool\, Benton Crossing Road\, Mammoth Lakes\, CA\, 93546\, United States
ORGANIZER;CN="HSTC":MAILTO:info@highsierratri.org
END:VEVENT
BEGIN:VEVENT
DTSTART;TZID=UTC:20240701T083000
DTEND;TZID=UTC:20240701T093000
DTSTAMP:20260421T125243
CREATED:20240614T171331Z
LAST-MODIFIED:20240614T171331Z
UID:344-1719822600-1719826200@highsierratri.org
SUMMARY:Whitmore Swim Workouts
DESCRIPTION:Coached Swim Workouts with Technique/Form Work at Whitmore Pool. \nFREE to HSTC Members (including pool fees).
URL:https://highsierratri.org/event/whitmore-swim-workouts-5/
LOCATION:Whitmore Pool\, Benton Crossing Road\, Mammoth Lakes\, CA\, 93546\, United States
ORGANIZER;CN="HSTC":MAILTO:info@highsierratri.org
END:VEVENT
BEGIN:VEVENT
DTSTART;TZID=UTC:20240624T083000
DTEND;TZID=UTC:20240624T093000
DTSTAMP:20260421T125243
CREATED:20240614T171223Z
LAST-MODIFIED:20240617T174110Z
UID:342-1719217800-1719221400@highsierratri.org
SUMMARY:Whitmore Swim Workouts
DESCRIPTION:Coached Swim Workouts with Technique/Form Work at Whitmore Pool. \nFREE to HSTC Members (including pool fees).
URL:https://highsierratri.org/event/whitmore-swim-workouts-4/
LOCATION:Whitmore Pool\, Benton Crossing Road\, Mammoth Lakes\, CA\, 93546\, United States
ORGANIZER;CN="HSTC":MAILTO:info@highsierratri.org
END:VEVENT
BEGIN:VEVENT
DTSTART;TZID=UTC:20240617T083000
DTEND;TZID=UTC:20240617T093000
DTSTAMP:20260421T125243
CREATED:20240614T171101Z
LAST-MODIFIED:20240614T171101Z
UID:339-1718613000-1718616600@highsierratri.org
SUMMARY:Whitmore Swim Workouts
DESCRIPTION: \n\n\nCoached Swim Workouts with Technique/Form Work at Whitmore Pool. \nFREE to HSTC Members (including pool fees).
URL:https://highsierratri.org/event/whitmore-swim-workouts-3/
LOCATION:Whitmore Pool\, Benton Crossing Road\, Mammoth Lakes\, CA\, 93546\, United States
ORGANIZER;CN="HSTC":MAILTO:info@highsierratri.org
END:VEVENT
BEGIN:VEVENT
DTSTART;TZID=UTC:20240610T083000
DTEND;TZID=UTC:20240610T093000
DTSTAMP:20260421T125243
CREATED:20240520T185747Z
LAST-MODIFIED:20240520T185747Z
UID:336-1718008200-1718011800@highsierratri.org
SUMMARY:Whitmore Swim Workouts
DESCRIPTION:Coached Swim Workouts with Technique/Form Work. \nFREE to HSTC Members (inducing pool fees).
URL:https://highsierratri.org/event/whitmore-swim-workouts-2/
LOCATION:Whitmore Pool\, Benton Crossing Road\, Mammoth Lakes\, CA\, 93546\, United States
END:VEVENT
BEGIN:VEVENT
DTSTART;TZID=UTC:20240603T083000
DTEND;TZID=UTC:20240603T093000
DTSTAMP:20260421T125243
CREATED:20240520T185626Z
LAST-MODIFIED:20240520T185626Z
UID:334-1717403400-1717407000@highsierratri.org
SUMMARY:Whitmore Swim Workouts
DESCRIPTION:Coached swim workout \nFREE to members (including pool fees)
URL:https://highsierratri.org/event/whitmore-swim-workouts/
LOCATION:Whitmore Pool\, Benton Crossing Road\, Mammoth Lakes\, CA\, 93546\, United States
END:VEVENT
END:VCALENDAR